BEGIN:VCALENDAR
VERSION:2.0
PRODID:icalendar-ruby
CALSCALE:GREGORIAN
BEGIN:VEVENT
DTSTAMP:20260422T050719Z
UID:82529c1e-a434-42cd-8459-4fc7f29d678c
DTSTART;VALUE=DATE:20260422
DESCRIPTION:Property ID# 605300\, Time: 4:00PM
SUMMARY:Auction for 13 Leonard Road
END:VEVENT
END:VCALENDAR
