BEGIN:VCALENDAR
VERSION:2.0
PRODID:icalendar-ruby
CALSCALE:GREGORIAN
BEGIN:VEVENT
DTSTAMP:20260422T050536Z
UID:485e3f5c-635e-4e5d-876c-a865d01b3137
DTSTART;VALUE=DATE:20241102
DESCRIPTION:Property ID# 581856\, Locatoin: On Site (unless sold prior)\, T
 ime: 1:00PM
SUMMARY:Auction for 
END:VEVENT
END:VCALENDAR
