BEGIN:VCALENDAR
VERSION:2.0
PRODID:icalendar-ruby
CALSCALE:GREGORIAN
BEGIN:VEVENT
DTSTAMP:20260422T051217Z
UID:6ebc1105-92da-4b1d-b4d9-13bda68ecb15
DTSTART;VALUE=DATE:20240914
DESCRIPTION:Property ID# 579591\, Time: 1:00PM
SUMMARY:Auction for 
END:VEVENT
END:VCALENDAR
