BEGIN:VCALENDAR
VERSION:2.0
PRODID:icalendar-ruby
CALSCALE:GREGORIAN
BEGIN:VEVENT
DTSTAMP:20260425T140312Z
UID:18d82eba-73b2-46bb-8926-182c111899e8
DTSTART;VALUE=DATE:20240821
DESCRIPTION:Property ID# 578577\, Locatoin: on site 18 Bryan Road\, Waiotah
 i\, Time: 1:00PM
SUMMARY:Auction for 
END:VEVENT
END:VCALENDAR
