BEGIN:VCALENDAR
VERSION:2.0
PRODID:icalendar-ruby
CALSCALE:GREGORIAN
BEGIN:VEVENT
DTSTAMP:20260422T144634Z
UID:70e5e0a2-6197-44f3-96a8-37d90f1c1b28
DTSTART;VALUE=DATE:20221214
DESCRIPTION:Property ID# 543198\, Time: 4:00PM
SUMMARY:Auction for 
END:VEVENT
END:VCALENDAR
