BEGIN:VCALENDAR
VERSION:2.0
PRODID:icalendar-ruby
CALSCALE:GREGORIAN
BEGIN:VEVENT
DTSTAMP:20260420T142317Z
UID:7726bcea-aae9-4771-9a8f-86b5a4b78aab
DTSTART;VALUE=DATE:20220428
DESCRIPTION:Property ID# 533816\, Time: 4:00PM
SUMMARY:Auction for 
END:VEVENT
END:VCALENDAR
