BEGIN:VCALENDAR
VERSION:2.0
PRODID:icalendar-ruby
CALSCALE:GREGORIAN
BEGIN:VEVENT
DTSTAMP:20260420T150031Z
UID:38d8b37a-395d-4688-8ca1-e1a11da9c233
DTSTART;VALUE=DATE:20211117
DESCRIPTION:Property ID# 520103\, Locatoin: Ray White Auction Room\, 1239 A
 mohia Street\, Rotorua (unless sold prior)\, Time: 1:00PM
SUMMARY:Auction for 
END:VEVENT
END:VCALENDAR
