BEGIN:VCALENDAR
VERSION:2.0
PRODID:icalendar-ruby
CALSCALE:GREGORIAN
BEGIN:VEVENT
DTSTAMP:20191218T013848Z
UID:a6201b54-a2a0-4273-8562-b849d6f4582a
DTSTART;TZID=Pacific/Auckland:20191222T110000
DTEND;TZID=Pacific/Auckland:20191222T120000
DESCRIPTION:Property ID# 469655
SUMMARY:Openhome for 24 Kokiri Street
END:VEVENT
END:VCALENDAR
