BEGIN:VCALENDAR
VERSION:2.0
PRODID:icalendar-ruby
CALSCALE:GREGORIAN
BEGIN:VEVENT
DTSTAMP:20191218T013915Z
UID:6e4e59f8-3288-4cda-b27e-dff84862a4ab
DTSTART;VALUE=DATE:20200211
DESCRIPTION:Property ID# 468410\, Locatoin: Motion Entertainment\, 346 Te N
 gae Road\, Rotorua\, Time: 1:00PM
SUMMARY:Auction for 28 Mark Place
END:VEVENT
END:VCALENDAR
